BEGIN:VCALENDAR
VERSION:2.0
PRODID:-//Texas A&amp;M University College of Performance, Visualization &amp; Fine Arts - ECPv6.15.20//NONSGML v1.0//EN
CALSCALE:GREGORIAN
METHOD:PUBLISH
X-WR-CALNAME:Texas A&amp;M University College of Performance, Visualization &amp; Fine Arts
X-ORIGINAL-URL:https://pvfa.tamu.edu
X-WR-CALDESC:Events for Texas A&amp;M University College of Performance, Visualization &amp; Fine Arts
REFRESH-INTERVAL;VALUE=DURATION:PT1H
X-Robots-Tag:noindex
X-PUBLISHED-TTL:PT1H
BEGIN:VTIMEZONE
TZID:America/Chicago
BEGIN:DAYLIGHT
TZOFFSETFROM:-0600
TZOFFSETTO:-0500
TZNAME:CDT
DTSTART:20240310T080000
END:DAYLIGHT
BEGIN:STANDARD
TZOFFSETFROM:-0500
TZOFFSETTO:-0600
TZNAME:CST
DTSTART:20241103T070000
END:STANDARD
BEGIN:DAYLIGHT
TZOFFSETFROM:-0600
TZOFFSETTO:-0500
TZNAME:CDT
DTSTART:20250309T080000
END:DAYLIGHT
BEGIN:STANDARD
TZOFFSETFROM:-0500
TZOFFSETTO:-0600
TZNAME:CST
DTSTART:20251102T070000
END:STANDARD
BEGIN:DAYLIGHT
TZOFFSETFROM:-0600
TZOFFSETTO:-0500
TZNAME:CDT
DTSTART:20260308T080000
END:DAYLIGHT
BEGIN:STANDARD
TZOFFSETFROM:-0500
TZOFFSETTO:-0600
TZNAME:CST
DTSTART:20261101T070000
END:STANDARD
BEGIN:DAYLIGHT
TZOFFSETFROM:-0600
TZOFFSETTO:-0500
TZNAME:CDT
DTSTART:20270314T080000
END:DAYLIGHT
BEGIN:STANDARD
TZOFFSETFROM:-0500
TZOFFSETTO:-0600
TZNAME:CST
DTSTART:20271107T070000
END:STANDARD
END:VTIMEZONE
BEGIN:VEVENT
DTSTART;TZID=America/Chicago:20251110T000000
DTEND;TZID=America/Chicago:20260115T235959
DTSTAMP:20260422T171251
CREATED:20251106T214901Z
LAST-MODIFIED:20260106T224103Z
UID:32886-1762732800-1768521599@pvfa.tamu.edu
SUMMARY:Emilie Duval\, ‘In Digital Elysium: Architectures of a New Reality’
DESCRIPTION:On display through Jan. 15 at Wright Gallery in the Langford Architecture Center\, Building A.  Emilie Duval is a multidisciplinary artist whose abstractions of midcentury architecture are layered with fragmented perspectives that blur the boundaries between what’s real and virtual. In painting\, sculpture and animation\, she explores tension between physical and digital entities in her scenes of abstracted midcentury modern architecture and bright landscapes with mountains and palm trees. Gallery hours are Monday-Thursday from 8 a.m. to 7:45 p.m. and Friday 8 a.m. to 5 p.m.
URL:https://pvfa.tamu.edu/event/emilie-duval-in-digital-elysium-architectures-of-a-new-reality/
LOCATION:Wright Gallery\, 789 Ross St\, College Station\, Texas\, 77843\, United States
ATTACH;FMTTYPE=image/jpeg:https://pvfa.tamu.edu/wp-content/uploads/2025/11/The-Mountains-of-Illusion-I-copy-Rebecca-Pugh-e1762467710313.jpg
END:VEVENT
END:VCALENDAR