BEGIN:VCALENDAR
VERSION:2.0
PRODID:-//Texas A&amp;M University College of Performance, Visualization &amp; Fine Arts - ECPv6.15.20//NONSGML v1.0//EN
CALSCALE:GREGORIAN
METHOD:PUBLISH
X-WR-CALNAME:Texas A&amp;M University College of Performance, Visualization &amp; Fine Arts
X-ORIGINAL-URL:https://pvfa.tamu.edu
X-WR-CALDESC:Events for Texas A&amp;M University College of Performance, Visualization &amp; Fine Arts
REFRESH-INTERVAL;VALUE=DURATION:PT1H
X-Robots-Tag:noindex
X-PUBLISHED-TTL:PT1H
BEGIN:VTIMEZONE
TZID:America/Chicago
BEGIN:DAYLIGHT
TZOFFSETFROM:-0600
TZOFFSETTO:-0500
TZNAME:CDT
DTSTART:20250309T080000
END:DAYLIGHT
BEGIN:STANDARD
TZOFFSETFROM:-0500
TZOFFSETTO:-0600
TZNAME:CST
DTSTART:20251102T070000
END:STANDARD
BEGIN:DAYLIGHT
TZOFFSETFROM:-0600
TZOFFSETTO:-0500
TZNAME:CDT
DTSTART:20260308T080000
END:DAYLIGHT
BEGIN:STANDARD
TZOFFSETFROM:-0500
TZOFFSETTO:-0600
TZNAME:CST
DTSTART:20261101T070000
END:STANDARD
BEGIN:DAYLIGHT
TZOFFSETFROM:-0600
TZOFFSETTO:-0500
TZNAME:CDT
DTSTART:20270314T080000
END:DAYLIGHT
BEGIN:STANDARD
TZOFFSETFROM:-0500
TZOFFSETTO:-0600
TZNAME:CST
DTSTART:20271107T070000
END:STANDARD
END:VTIMEZONE
BEGIN:VEVENT
DTSTART;TZID=America/Chicago:20260423T190000
DTEND;TZID=America/Chicago:20260423T203000
DTSTAMP:20260423T100238
CREATED:20260409T012539Z
LAST-MODIFIED:20260411T170017Z
UID:10001908-1776970800-1776976200@pvfa.tamu.edu
SUMMARY:‘Fragments: A Choreography Capstone Concert’
DESCRIPTION:April 23 and 25 at 7 p.m. at the Physical Education Activity Program Building\, Black Box\, Room 207. Tickets are $6 through the MSC Box Office. A limited number of tickets will be sold at the door for $5 — no cash. “Fragments” is a dance concert created\, performed and run by the undergraduate students in the Dance Science program\, with guidance from faculty Diane Bedford and Carisa Armstrong.  Among the choreographic works in the concert are two from undergraduate students Kambree Beavers and Rylee Braun. Among other works\, Beavers will be showcasing an expanded work called “Pendulum\,” which is inspired by physics.  Braun will feature a work titled “abandon\, adrift\,” in which her cast commits to a stiff and reverberated texture as they maintain a unique shape formed by the connection of each dancer.
URL:https://pvfa.tamu.edu/event/fragments-a-choreography-capstone-concert-2/
LOCATION:Physical Education Activity Program Building 207\, 632 Penberthy Blvd\, College Station\, TX\, 77843
CATEGORIES:Performances
ATTACH;FMTTYPE=image/jpeg:https://pvfa.tamu.edu/wp-content/uploads/2025/08/event_placeholder_dancescience.jpg
END:VEVENT
BEGIN:VEVENT
DTSTART;TZID=America/Chicago:20260424T190000
DTEND;TZID=America/Chicago:20260424T203000
DTSTAMP:20260423T100238
CREATED:20260409T011545Z
LAST-MODIFIED:20260411T170505Z
UID:10001906-1777057200-1777062600@pvfa.tamu.edu
SUMMARY:‘Whirlwind’
DESCRIPTION:April 24 at 7 p.m.\, April 25 at 2:30 p.m. at the Physical Education Activity Program Building\, Black Box\, Room 207. Tickets are $6 through the MSC Box Office. A limited number of tickets will be sold at the door for $5 — no cash. “Whirlwind” is an electrifying dance concert featuring original works by students who who have developed their own choreographic voices in the Concert Choreography course: Elizabeth Drake (“Sass-a-Frass\,” bursting with energy and joy); Carissa Mathiason (“Ascent of the Wings\,” which finds inspiration from the motion of birds and how they migrate); and Macey Vasquez\, whose piece aims to create works where the audience feels the body thinking. Audiences can expect an evening of powerful storytelling\, innovative movement and emotional depth.
URL:https://pvfa.tamu.edu/event/whirlwind/
LOCATION:Physical Education Activity Program Building 207\, 632 Penberthy Blvd\, College Station\, TX\, 77843
CATEGORIES:Performances
ATTACH;FMTTYPE=image/jpeg:https://pvfa.tamu.edu/wp-content/uploads/2025/08/event_placeholder_dancescience.jpg
END:VEVENT
BEGIN:VEVENT
DTSTART;TZID=America/Chicago:20260425T143000
DTEND;TZID=America/Chicago:20260425T160000
DTSTAMP:20260423T100238
CREATED:20260409T011729Z
LAST-MODIFIED:20260411T170249Z
UID:10001907-1777127400-1777132800@pvfa.tamu.edu
SUMMARY:‘Whirlwind’
DESCRIPTION:April 24 at 7 p.m.\, April 25 at 2:30 p.m. at the Physical Education Activity Program Building\, Black Box\, Room 207. Tickets are $6 through the MSC Box Office. A limited number of tickets will be sold at the door for $5 — no cash. “Whirlwind” is an electrifying dance concert featuring original works by students who who have developed their own choreographic voices in the Concert Choreography course: Elizabeth Drake (“Sass-a-Frass\,” bursting with energy and joy); Carissa Mathiason (“Ascent of the Wings\,” which finds inspiration from the motion of birds and how they migrate); and Macey Vasquez\, whose piece aims to create works where the audience feels the body thinking. Audiences can expect an evening of powerful storytelling\, innovative movement and emotional depth.
URL:https://pvfa.tamu.edu/event/whirlwind-2/
LOCATION:Physical Education Activity Program Building 207\, 632 Penberthy Blvd\, College Station\, TX\, 77843
CATEGORIES:Performances
ATTACH;FMTTYPE=image/jpeg:https://pvfa.tamu.edu/wp-content/uploads/2025/08/event_placeholder_dancescience.jpg
END:VEVENT
BEGIN:VEVENT
DTSTART;TZID=America/Chicago:20260425T190000
DTEND;TZID=America/Chicago:20260425T203000
DTSTAMP:20260423T100238
CREATED:20260409T011255Z
LAST-MODIFIED:20260411T170152Z
UID:10001905-1777143600-1777149000@pvfa.tamu.edu
SUMMARY:‘Fragments: A Choreography Capstone Concert’
DESCRIPTION:April 23 and 25 at 7 p.m. at the Physical Education Activity Program Building\, Black Box\, Room 207. Tickets are $6 through the MSC Box Office. A limited number of tickets will be sold at the door for $5 — no cash. “Fragments” is a dance concert created\, performed and run by the undergraduate students in the Dance Science program\, with guidance from faculty Diane Bedford and Carisa Armstrong.  Among the choreographic works in the concert are two from undergraduate students Kambree Beavers and Rylee Braun. Among other works\, Beavers will be showcasing an expanded work called “Pendulum\,” which is inspired by physics.  Braun will feature a work titled “abandon\, adrift\,” in which her cast commits to a stiff and reverberated texture as they maintain a unique shape formed by the connection of each dancer.
URL:https://pvfa.tamu.edu/event/fragments-a-choreography-capstone-concert/
LOCATION:Physical Education Activity Program Building 207\, 632 Penberthy Blvd\, College Station\, TX\, 77843
CATEGORIES:Performances
ATTACH;FMTTYPE=image/jpeg:https://pvfa.tamu.edu/wp-content/uploads/2025/08/event_placeholder_dancescience.jpg
END:VEVENT
BEGIN:VEVENT
DTSTART;TZID=America/Chicago:20260428T100000
DTEND;TZID=America/Chicago:20260428T131500
DTSTAMP:20260423T100238
CREATED:20260410T175920Z
LAST-MODIFIED:20260410T175920Z
UID:10001914-1777370400-1777382100@pvfa.tamu.edu
SUMMARY:Dance Science Symposium
DESCRIPTION:Undergraduate and graduate dance students will give oral and poster presentations of their dance science research from 10 a.m. until noon. Undergraduate students from technique courses will present brief performances to showcase the skills they’ve been developing this semester from 12:15 to 1:15 p.m.
URL:https://pvfa.tamu.edu/event/dance-science-symposium/
LOCATION:Physical Education Activity Program Building 207\, 632 Penberthy Blvd\, College Station\, TX\, 77843
CATEGORIES:Performances
ATTACH;FMTTYPE=image/jpeg:https://pvfa.tamu.edu/wp-content/uploads/2025/08/event_placeholder_dancescience.jpg
END:VEVENT
END:VCALENDAR