BEGIN:VCALENDAR
VERSION:2.0
PRODID:-//Texas A&amp;M University College of Performance, Visualization &amp; Fine Arts - ECPv6.15.20//NONSGML v1.0//EN
CALSCALE:GREGORIAN
METHOD:PUBLISH
X-WR-CALNAME:Texas A&amp;M University College of Performance, Visualization &amp; Fine Arts
X-ORIGINAL-URL:https://pvfa.tamu.edu
X-WR-CALDESC:Events for Texas A&amp;M University College of Performance, Visualization &amp; Fine Arts
REFRESH-INTERVAL;VALUE=DURATION:PT1H
X-Robots-Tag:noindex
X-PUBLISHED-TTL:PT1H
BEGIN:VTIMEZONE
TZID:America/Chicago
BEGIN:DAYLIGHT
TZOFFSETFROM:-0600
TZOFFSETTO:-0500
TZNAME:CDT
DTSTART:20250309T080000
END:DAYLIGHT
BEGIN:STANDARD
TZOFFSETFROM:-0500
TZOFFSETTO:-0600
TZNAME:CST
DTSTART:20251102T070000
END:STANDARD
BEGIN:DAYLIGHT
TZOFFSETFROM:-0600
TZOFFSETTO:-0500
TZNAME:CDT
DTSTART:20260308T080000
END:DAYLIGHT
BEGIN:STANDARD
TZOFFSETFROM:-0500
TZOFFSETTO:-0600
TZNAME:CST
DTSTART:20261101T070000
END:STANDARD
BEGIN:DAYLIGHT
TZOFFSETFROM:-0600
TZOFFSETTO:-0500
TZNAME:CDT
DTSTART:20270314T080000
END:DAYLIGHT
BEGIN:STANDARD
TZOFFSETFROM:-0500
TZOFFSETTO:-0600
TZNAME:CST
DTSTART:20271107T070000
END:STANDARD
END:VTIMEZONE
BEGIN:VEVENT
DTSTART;TZID=America/Chicago:20260318T080000
DTEND;TZID=America/Chicago:20260508T170000
DTSTAMP:20260424T094208
CREATED:20260106T223724Z
LAST-MODIFIED:20260106T223807Z
UID:10001451-1773820800-1778259600@pvfa.tamu.edu
SUMMARY:‘Hillerbrand+Magsamen\, Assembly Required’
DESCRIPTION:March 18-May 8 at Wright Gallery\, Langford Architecture Center Building A. Artist talk and reception April 7 at 2 p.m. This exhibition by Hillerbrand+Magsamen\, a husband-wife team based in Houston\, brings together sculptural\, photographic and time-based works that explore the relationship between the domestic sphere and systems of thought\, belief and care. Everyday materials are reconfigured into forms that suggest both ritual and experiment\, reflecting on how the ordinary can become a site of transformation. Through processes of repetition\, accumulation\, and play\, the works consider how we organize chaos\, measure time\, and give shape to memory. Gallery hours: Monday-Thursday from 8 a.m. to 7:45 p.m. and Friday 8 a.m. to 5 p.m.
URL:https://pvfa.tamu.edu/event/hillerbrandmagsamen-assembly-required/
LOCATION:Wright Gallery\, 789 Ross St\, College Station\, Texas\, 77843\, United States
CATEGORIES:Exhibitions
ATTACH;FMTTYPE=image/jpeg:https://pvfa.tamu.edu/wp-content/uploads/2026/01/new-HillerbrandMagsamen_A-Device-to-Heal-all-Mothers-copy-Rebecca-Pugh.jpg
END:VEVENT
BEGIN:VEVENT
DTSTART;TZID=America/Chicago:20260501T110000
DTEND;TZID=America/Chicago:20260501T210000
DTSTAMP:20260424T094208
CREATED:20260403T140303Z
LAST-MODIFIED:20260403T153242Z
UID:10001898-1777633200-1777669200@pvfa.tamu.edu
SUMMARY:Viz-a-GoGo 33
DESCRIPTION:This student-run event is the 33rd-annual showcase of Visualization students’ work from the past year\, including a gallery exhibition of physical works and a screening of time-based works. Work shown includes flatwork\, both traditional and digital drawing and painting; photography; sculpture; interactive projects such as virtual reality experiences and video games; installation work and other new media. The screening shows the latest animation projects as well as short films\, visual effects projects\, class reels and other time-based media.  The exhibition is April 29 to May 1 in the Rudder Exhibit Hall The research symposium is May 1 at 11 a.m. in Rudder Forum. The screening is May 1 at 7 p.m. in Rudder Theater.
URL:https://pvfa.tamu.edu/event/viz-a-gogo-33-3/
LOCATION:Rudder Complex\, 275 Joe Routt Blvd.\, College Station\, Texas\, 77840\, United States
CATEGORIES:Exhibitions,Film Screenings
ATTACH;FMTTYPE=image/jpeg:https://pvfa.tamu.edu/wp-content/uploads/2026/04/viz-a-gogo33-Luke-Killingsworth.jpg
END:VEVENT
BEGIN:VEVENT
DTSTART;TZID=America/Chicago:20260507T140000
DTEND;TZID=America/Chicago:20260507T153000
DTSTAMP:20260424T094208
CREATED:20260423T215808Z
LAST-MODIFIED:20260423T215808Z
UID:10001918-1778162400-1778167800@pvfa.tamu.edu
SUMMARY:Graduation Recognition and Awards Ceremony
DESCRIPTION:Join us in celebrating this semester’s graduating class. Open seating. All are welcome. Food and drinks provided.
URL:https://pvfa.tamu.edu/event/graduation-recognition-and-awards-ceremony-2/
LOCATION:Preston Geren Auditorium\, 788 Ross Street\, College Station\, TX\, 77840\, United States
ATTACH;FMTTYPE=image/jpeg:https://pvfa.tamu.edu/wp-content/uploads/2024/05/gradPhotos_before-29.jpg
END:VEVENT
BEGIN:VEVENT
DTSTART;TZID=America/Chicago:20260521T090000
DTEND;TZID=America/Chicago:20260725T170000
DTSTAMP:20260424T094208
CREATED:20260423T220555Z
LAST-MODIFIED:20260423T220556Z
UID:10001919-1779354000-1784998800@pvfa.tamu.edu
SUMMARY:‘To the Horizon’
DESCRIPTION:Rebecca Pugh\, instructional assistant professor in the Visualization program and curator of Wright Gallery\, presents this solo exhibition featuring a selection of her recent and new work\, including a 18-foot long mixed media painting installation combining painting and drawing. The exhibition is funded in part by the City of Houston through Houston Arts Alliance. May 21-July 25 at Sabine St. Studios\, 1907 Sabine St. in Houston. Opening reception May 21 from 6 to 8 p.m. Gallery hours: Monday-Saturday from 9 a.m. to 5 p.m.
URL:https://pvfa.tamu.edu/event/to-the-horizon/
LOCATION:Sabine St. Studios\, 1907 Sabine St.\, Houston\, Texas\, 77007\, United States
ATTACH;FMTTYPE=image/jpeg:https://pvfa.tamu.edu/wp-content/uploads/2025/08/event-_placeholder_PVFA.jpg
END:VEVENT
END:VCALENDAR