BEGIN:VCALENDAR
VERSION:2.0
PRODID:-//Texas A&amp;M University College of Performance, Visualization &amp; Fine Arts - ECPv6.15.20//NONSGML v1.0//EN
CALSCALE:GREGORIAN
METHOD:PUBLISH
X-WR-CALNAME:Texas A&amp;M University College of Performance, Visualization &amp; Fine Arts
X-ORIGINAL-URL:https://pvfa.tamu.edu
X-WR-CALDESC:Events for Texas A&amp;M University College of Performance, Visualization &amp; Fine Arts
REFRESH-INTERVAL;VALUE=DURATION:PT1H
X-Robots-Tag:noindex
X-PUBLISHED-TTL:PT1H
BEGIN:VTIMEZONE
TZID:America/Chicago
BEGIN:DAYLIGHT
TZOFFSETFROM:-0600
TZOFFSETTO:-0500
TZNAME:CDT
DTSTART:20250309T080000
END:DAYLIGHT
BEGIN:STANDARD
TZOFFSETFROM:-0500
TZOFFSETTO:-0600
TZNAME:CST
DTSTART:20251102T070000
END:STANDARD
BEGIN:DAYLIGHT
TZOFFSETFROM:-0600
TZOFFSETTO:-0500
TZNAME:CDT
DTSTART:20260308T080000
END:DAYLIGHT
BEGIN:STANDARD
TZOFFSETFROM:-0500
TZOFFSETTO:-0600
TZNAME:CST
DTSTART:20261101T070000
END:STANDARD
BEGIN:DAYLIGHT
TZOFFSETFROM:-0600
TZOFFSETTO:-0500
TZNAME:CDT
DTSTART:20270314T080000
END:DAYLIGHT
BEGIN:STANDARD
TZOFFSETFROM:-0500
TZOFFSETTO:-0600
TZNAME:CST
DTSTART:20271107T070000
END:STANDARD
END:VTIMEZONE
BEGIN:VEVENT
DTSTART;TZID=America/Chicago:20260116T000000
DTEND;TZID=America/Chicago:20260419T235900
DTSTAMP:20260424T161808
CREATED:20251211T223642Z
LAST-MODIFIED:20260113T225626Z
UID:10001014-1768521600-1776643140@pvfa.tamu.edu
SUMMARY:Hollis Hammonds\, 'The River Entered My Home By Hammonds + West'
DESCRIPTION:“The River Entered My Home by Hammonds + West” will be on display Jan. 16 through April 19 at Art League Houston. Photo courtesy of Hollis Hammonds.On display Jan. 16 through April 19 at Art League Houston\, 1953 Montrose Boulevard in Houston. Artist talk Jan. 17 at 2 p.m.  This multimedia exhibition about climate grief and the environmental crisis was created by Hollis Hammonds\, associate professor in the Visualization program; and Austin-based poet Sasha West. The artists combine image and text into multimedia installations and exhibitions\, combining sound with sculptural installation\, video with drawings and words with images. Hammonds’ drawings reflect the melancholy and darkness manifested in West’s poems\, asking viewers to reexamine the impact of elements when those elements are fed by human actions. West’s poems connect to the landscapes of ruin in Hammonds’ drawing\, questioning our culture’s belief in limitless growth. They invite viewers to see their own daily part in making the physical world and the future of landscapes.
URL:https://pvfa.tamu.edu/event/hollis-hammonds-the-river-entered-my-home-by-hammonds-west/
LOCATION:1953 Montrose Blvd.\, Houston\, TX\, 77006\, 1953 Montrose Blvd.\, Houston\, Texas\, 77006\, United States
CATEGORIES:Exhibitions
ATTACH;FMTTYPE=image/jpeg:https://pvfa.tamu.edu/wp-content/uploads/2025/12/theriverenteredmyhome-Hollis-Hammonds.jpeg
END:VEVENT
BEGIN:VEVENT
DTSTART;TZID=America/Chicago:20260127T080000
DTEND;TZID=America/Chicago:20260305T194500
DTSTAMP:20260424T161808
CREATED:20251223T145857Z
LAST-MODIFIED:20260128T172538Z
UID:10001118-1769500800-1772739900@pvfa.tamu.edu
SUMMARY:Elizabeth Chiles\, 'Making Meadows'
DESCRIPTION:Elizabeth Chiles\, “Meadow no. 03.” Image courtesy of the artist.Jan. 27-March 5 at Wright Gallery\, Langford Architecture Center\, Building A. Artist talk and reception Feb. 5 from 4 to 6 p.m.  “Making Meadows” is an art exhibition of Elizabeth Chiles’ photographic collage works featuring grass\, wildflowers and insects\, with abstraction and shifts between figure and ground. The Austin-based artist’s process involves photographing nature during her daily walks and composing the collage works digitally. The artist explores her ideas surrounding how meadows are formed through collaboration of insects and humans. The artist describes the exhibition as “an experimental laboratory that begins with the questions: How are meadows\, both literal and metaphorical\, made? What is at stake in these places of abundance\, dreams and rest? Where do they persist and germinate?” Gallery hours are Monday-Thursday from 8 a.m. to 7:45 p.m. and Friday 8 a.m. to 5 p.m.
URL:https://pvfa.tamu.edu/event/elizabeth-chiles-making-meadows/
LOCATION:Wright Gallery\, 789 Ross St\, College Station\, Texas\, 77843\, United States
CATEGORIES:Exhibitions
ATTACH;FMTTYPE=image/jpeg:https://pvfa.tamu.edu/wp-content/uploads/2025/12/ElizabethChiles_Making-meadows3-Rebecca-Pugh-e1767739357236.jpg
END:VEVENT
BEGIN:VEVENT
DTSTART;TZID=America/Chicago:20260128T080000
DTEND;TZID=America/Chicago:20260408T170000
DTSTAMP:20260424T161808
CREATED:20260121T030136Z
LAST-MODIFIED:20260211T135159Z
UID:10001460-1769587200-1775667600@pvfa.tamu.edu
SUMMARY:Rebecca Pugh\, 'Highways to Houston'
DESCRIPTION:Rebecca Pugh\, instructional assistant professor in the Visualization program and director of Wright Gallery\, presents this solo exhibition of abstract paintings inspired by driving between Houston and College Station. Pugh abstracts cattle and horses as shapes of brown\, black and white\, and grass and wildflowers as bright colors. She uses angular shapes inspired by spaces in between fence posts\, railings and barbed wire\, and often mounts shapes of paper containing graphite mark making to suggest wind in grass\, speed or direction of traffic.
URL:https://pvfa.tamu.edu/event/rebecca-pugh-highways-to-houston/
LOCATION:LSC Visual & Performing Arts Building\, Lone Star College\, 930 University Park Campus Drive\, Houston\, Texas\, United States
CATEGORIES:Exhibitions
ATTACH;FMTTYPE=image/jpeg:https://pvfa.tamu.edu/wp-content/uploads/2026/01/RebeccaPugh_SPUR515_Panel3_ONLINE-Rebecca-Pugh-1-e1768964390122.jpg
END:VEVENT
BEGIN:VEVENT
DTSTART;TZID=America/Chicago:20260306T170000
DTEND;TZID=America/Chicago:20260306T200000
DTSTAMP:20260424T161808
CREATED:20260226T185736Z
LAST-MODIFIED:20260226T185738Z
UID:10001493-1772816400-1772827200@pvfa.tamu.edu
SUMMARY:Opening Reception For Felice House Exhibition
DESCRIPTION:Photo courtesy of Felice House.Painters Felice House and Kyle Steed present a joint exhibition. House\, M.F.A.\, is an associate professor in the Visualization program. The show pairs House’s cowgirls and landscapes with Steed’s bold\, graphic sensibility\, creating a vibrant dialogue about place\, pattern and contemporary life in Texas. The opening reception will be held at the Commerce Gallery\, 102 South Commerce St. in Lockhart.  The joint exhibition is on view through March 30.
URL:https://pvfa.tamu.edu/event/opening-reception-for-felice-house-exhibition/
LOCATION:Commerce Gallery\, 102 South Commerce St.\, Lockhart\, Texas\, 78644\, United States
ATTACH;FMTTYPE=image/png:https://pvfa.tamu.edu/wp-content/uploads/2026/02/felice.png
END:VEVENT
BEGIN:VEVENT
DTSTART;TZID=America/Chicago:20260306T170000
DTEND;TZID=America/Chicago:20260330T170000
DTSTAMP:20260424T161808
CREATED:20260226T190233Z
LAST-MODIFIED:20260226T190234Z
UID:10001494-1772816400-1774890000@pvfa.tamu.edu
SUMMARY:Felice House Exhibition Featuring Cowgirls And Landscapes
DESCRIPTION:Photo courtesy of Felice House. Painters Felice House and Kyle Steed present a joint exhibition. House\, M.F.A.\, is an associate professor in the Visualization program. The show pairs House’s cowgirls and landscapes with Steed’s bold\, graphic sensibility\, creating a vibrant dialogue about place\, pattern and contemporary life in Texas.
URL:https://pvfa.tamu.edu/event/felice-house-exhibition-featuring-cowgirls-and-landscapes/
LOCATION:Commerce Gallery\, 102 South Commerce St.\, Lockhart\, Texas\, 78644\, United States
ATTACH;FMTTYPE=image/png:https://pvfa.tamu.edu/wp-content/uploads/2026/02/felice.png
END:VEVENT
BEGIN:VEVENT
DTSTART;TZID=America/Chicago:20260313T190000
DTEND;TZID=America/Chicago:20260313T203000
DTSTAMP:20260424T161808
CREATED:20260219T191239Z
LAST-MODIFIED:20260219T193502Z
UID:10001487-1773428400-1773433800@pvfa.tamu.edu
SUMMARY:Regional High School Dance Festival: Opening Night Concert
DESCRIPTION:High school students from across the country will visit Texas A&M University for the Regional High School Dance Festival March 13-16.  The Opening Night Concert features a performance by Social Movement Contemporary Dance Theatre\, a Houston-based company created by Elijah Alhadji Gibson\, M.F.A.\, assistant professor. Tickets are $6\, available at the MSC Box Office. 
URL:https://pvfa.tamu.edu/event/regional-high-school-dance-festival-opening-night-concert/
LOCATION:Rudder Auditorium\, 275 Joe Routt Blvd\, College Station\, TX\, 77840
ATTACH;FMTTYPE=image/jpeg:https://pvfa.tamu.edu/wp-content/uploads/2026/02/rhsdf-news-graphic.jpg
END:VEVENT
BEGIN:VEVENT
DTSTART;TZID=America/Chicago:20260314T123000
DTEND;TZID=America/Chicago:20260314T140000
DTSTAMP:20260424T161808
CREATED:20260219T191824Z
LAST-MODIFIED:20260219T200314Z
UID:10001488-1773491400-1773496800@pvfa.tamu.edu
SUMMARY:Regional High School Dance Festival: Student Choreography Showcase
DESCRIPTION:High school students from across the country will visit Texas A&M University for the Regional High School Dance Festival March 13-16. The Student Choreography Showcase features works choreographed by high school students. Tickets are $6\, available at the MSC Box Office. 
URL:https://pvfa.tamu.edu/event/regional-high-school-dance-festival-student-choreography-showcase/
LOCATION:Rudder Auditorium\, 275 Joe Routt Blvd\, College Station\, TX\, 77840
ATTACH;FMTTYPE=image/jpeg:https://pvfa.tamu.edu/wp-content/uploads/2026/02/rhsdf-news-graphic.jpg
END:VEVENT
BEGIN:VEVENT
DTSTART;TZID=America/Chicago:20260314T190000
DTEND;TZID=America/Chicago:20260314T203000
DTSTAMP:20260424T161808
CREATED:20260219T192140Z
LAST-MODIFIED:20260219T193542Z
UID:10001489-1773514800-1773520200@pvfa.tamu.edu
SUMMARY:Regional High School Dance Festival: Showcase Concert
DESCRIPTION:High school students from across the country will visit Texas A&M University for the Regional High School Dance Festival March 13-16. The Showcase Concert features works by guest artists and faculty from visiting high schools. Tickets are $6\, available at the MSC Box Office. 
URL:https://pvfa.tamu.edu/event/regional-high-school-dance-festival-showcase-concert/
LOCATION:Rudder Auditorium\, 275 Joe Routt Blvd\, College Station\, TX\, 77840
ATTACH;FMTTYPE=image/jpeg:https://pvfa.tamu.edu/wp-content/uploads/2026/02/rhsdf-news-graphic.jpg
END:VEVENT
BEGIN:VEVENT
DTSTART;TZID=America/Chicago:20260315T123000
DTEND;TZID=America/Chicago:20260315T140000
DTSTAMP:20260424T161808
CREATED:20260219T192444Z
LAST-MODIFIED:20260220T195446Z
UID:10001490-1773577800-1773583200@pvfa.tamu.edu
SUMMARY:Regional High School Dance Festival: Afternoon Concert
DESCRIPTION:High school students from across the country will visit Texas A&M University for the Regional High School Dance Festival March 13-16. The Afternoon Concert features works by students and faculty from visiting high schools. Tickets are $6\, available at the MSC Box Office. 
URL:https://pvfa.tamu.edu/event/regional-high-school-dance-festival-afternoon-concert/
LOCATION:Rudder Auditorium\, 275 Joe Routt Blvd\, College Station\, TX\, 77840
ATTACH;FMTTYPE=image/jpeg:https://pvfa.tamu.edu/wp-content/uploads/2026/02/rhsdf-news-graphic.jpg
END:VEVENT
BEGIN:VEVENT
DTSTART;TZID=America/Chicago:20260315T190000
DTEND;TZID=America/Chicago:20260315T203000
DTSTAMP:20260424T161808
CREATED:20260219T192750Z
LAST-MODIFIED:20260219T193619Z
UID:10001491-1773601200-1773606600@pvfa.tamu.edu
SUMMARY:Regional High School Dance Festival: Gala Concert
DESCRIPTION:High school students from across the country will visit Texas A&M University for the Regional High School Dance Festival March 13-16. The Gala Concert features works selected by a panel of dance professionals. Tickets are $6\, available at the MSC Box Office. 
URL:https://pvfa.tamu.edu/event/regional-high-school-dance-festival-gala-concert/
LOCATION:Rudder Auditorium\, 275 Joe Routt Blvd\, College Station\, TX\, 77840
ATTACH;FMTTYPE=image/jpeg:https://pvfa.tamu.edu/wp-content/uploads/2026/02/rhsdf-news-graphic.jpg
END:VEVENT
BEGIN:VEVENT
DTSTART;TZID=America/Chicago:20260317T130000
DTEND;TZID=America/Chicago:20260317T143000
DTSTAMP:20260424T161808
CREATED:20260305T205538Z
LAST-MODIFIED:20260305T205539Z
UID:10001499-1773752400-1773757800@pvfa.tamu.edu
SUMMARY:Guest Talk: Magician Kevin Spencer
DESCRIPTION:Kevin Spencer\, Ph.D.\, is an internationally recognized performing artist\, educator and researcher whose work combines artistry with therapeutic and educational practices. During his residency with OPAS\, he empowers students and educators through programs that use magic to teach\, inspire and support diverse learners. Spencer will present his research and meet with students and faculty to explore collaborations\, teaching opportunities and student engagement in the Liberal Arts and Arts & Humanities Building\, Room 255.
URL:https://pvfa.tamu.edu/event/guest-talk-magician-kevin-spencer/
LOCATION:Liberal Arts and Arts and Humanities Building (LAAH)\, 349 Spence St\, College Station\, TX\, 77840\, United States
CATEGORIES:Guest Talks
ATTACH;FMTTYPE=image/jpeg:https://pvfa.tamu.edu/wp-content/uploads/2025/08/event-_placeholder_PVFA.jpg
END:VEVENT
BEGIN:VEVENT
DTSTART;TZID=America/Chicago:20260318T080000
DTEND;TZID=America/Chicago:20260508T170000
DTSTAMP:20260424T161808
CREATED:20260106T223724Z
LAST-MODIFIED:20260106T223807Z
UID:10001451-1773820800-1778259600@pvfa.tamu.edu
SUMMARY:‘Hillerbrand+Magsamen\, Assembly Required’
DESCRIPTION:March 18-May 8 at Wright Gallery\, Langford Architecture Center Building A. Artist talk and reception April 7 at 2 p.m. This exhibition by Hillerbrand+Magsamen\, a husband-wife team based in Houston\, brings together sculptural\, photographic and time-based works that explore the relationship between the domestic sphere and systems of thought\, belief and care. Everyday materials are reconfigured into forms that suggest both ritual and experiment\, reflecting on how the ordinary can become a site of transformation. Through processes of repetition\, accumulation\, and play\, the works consider how we organize chaos\, measure time\, and give shape to memory. Gallery hours: Monday-Thursday from 8 a.m. to 7:45 p.m. and Friday 8 a.m. to 5 p.m.
URL:https://pvfa.tamu.edu/event/hillerbrandmagsamen-assembly-required/
LOCATION:Wright Gallery\, 789 Ross St\, College Station\, Texas\, 77843\, United States
CATEGORIES:Exhibitions
ATTACH;FMTTYPE=image/jpeg:https://pvfa.tamu.edu/wp-content/uploads/2026/01/new-HillerbrandMagsamen_A-Device-to-Heal-all-Mothers-copy-Rebecca-Pugh.jpg
END:VEVENT
BEGIN:VEVENT
DTSTART;TZID=America/Chicago:20260318T120000
DTEND;TZID=America/Chicago:20260318T130000
DTSTAMP:20260424T161808
CREATED:20260211T212022Z
LAST-MODIFIED:20260309T165933Z
UID:10001478-1773835200-1773838800@pvfa.tamu.edu
SUMMARY:LASER Talk Series: Patricia Olynyk
DESCRIPTION:The Institute for Applied Creativity presents this series as part of the international Leonardo/ISAST LASER network. It features interdisciplinary speakers across arts\, sciences\, humanities and technology each month at the J. Wayne Stark Galleries in the Memorial Student Center. Philippe Pasquier\, Feb. 19 at noon: The professor at Simon Fraser University’s School of Interactive Arts and Technology directs the Metacreation Lab for Creative AI. His research and creative practice focus on generative systems\, artificial intelligence\, machine learning and computational creativity\, bridging scientific research\, creative software development and interactive art.  Patricia Olynyk\, March 18 at noon: The interdisciplinary artist explores how science\, technology and institutional systems shape our understanding of the body and the world around us. Olynyk is the Florence and Frank Bush Professor of Art and the inaugural director of the Graduate School of Art at Washington University in St. Louis\, with additional appointments in medicine\, public health and the humanities. She co-directs the Leonardo/ISAST NY LASER Talks program.
URL:https://pvfa.tamu.edu/event/laser-talk-series-3/
LOCATION:J. Wayne Stark Galleries\, 275 Joe Routt Blvd\, Room 1110\, College Station\, TX\, 77843
CATEGORIES:Guest Talks
ATTACH;FMTTYPE=image/jpeg:https://pvfa.tamu.edu/wp-content/uploads/2025/08/LASER-Calendar-Graphic-V2.jpg
END:VEVENT
BEGIN:VEVENT
DTSTART;TZID=America/Chicago:20260319T100000
DTEND;TZID=America/Chicago:20260319T160000
DTSTAMP:20260424T161808
CREATED:20260305T212421Z
LAST-MODIFIED:20260305T212422Z
UID:10001500-1773914400-1773936000@pvfa.tamu.edu
SUMMARY:‘Stories in the Age of AI’ 
DESCRIPTION:Screening from 10 a.m. to 4 p.m. in the Igloo Studio\, Langford C\, Room 400A. Artist Talk from 2:45 to 4 p.m. in Langford C\, Room 307. This exhibition presents student projects from the Graduate School of Film\, Digital Media & Communication at Hongik University in South Korea. Developed through collaborations with industry partners including Disney\, CJ ENM\, d’strict and Westworld\, the works experiment with technologies such as generative AI\, neural rendering and 4D NeRF to create immersive visual narratives. The exhibition highlights how these tools expand creative possibilities and enable new forms of digital storytelling. Alongside the screening\, participating artists will share insights into their creative process during the Artist Talk\, discussing how AI technologies are shaping the future of media production and artistic expression.
URL:https://pvfa.tamu.edu/event/stories-in-the-age-of-ai/
LOCATION:Igloo Studio\, 788 Ross Street\, College Station\, Texas\, 77840\, United States
CATEGORIES:Exhibitions,Guest Talks
ATTACH;FMTTYPE=image/jpeg:https://pvfa.tamu.edu/wp-content/uploads/2025/08/event-_placeholder_PVFA.jpg
END:VEVENT
BEGIN:VEVENT
DTSTART;TZID=America/Chicago:20260320T080000
DTEND;TZID=America/Chicago:20260320T235900
DTSTAMP:20260424T161808
CREATED:20251213T003058Z
LAST-MODIFIED:20260121T232501Z
UID:10001116-1773993600-1774051140@pvfa.tamu.edu
SUMMARY:Node and Code
DESCRIPTION:The LIVE Lab invites you to Node and Code\, a dynamic symposium that will feature talks\, workshops and presentations led by industry experts\, including Barak Moshe\, former technical art director at Google and technical art advisor for GDC. All students and technical artists working in games\, graphics and related fields are invited to submit their projects for the demo showcase\, a collaborative exhibition inspired by the international demoscene. In demoscene tradition\, participants create audiovisual software demos that push the boundaries of programming\, visual art and music. For experienced technical artists or those just starting out\, Node and Code is the perfect way to connect with peers\, learn from professionals and share creative work. The free event will be at the Liberal Arts and Arts & Humanities Building\, Room 255. It continues March 21 through 5 p.m. Registration is required: https://bit.ly/490JppX
URL:https://pvfa.tamu.edu/event/node-and-code-8/
LOCATION:Liberal Arts and Arts and Humanities Building (LAAH)\, 349 Spence St\, College Station\, TX\, 77840\, United States
CATEGORIES:Workshops
ATTACH;FMTTYPE=image/jpeg:https://pvfa.tamu.edu/wp-content/uploads/2025/08/event-_placeholder_PVFA.jpg
END:VEVENT
BEGIN:VEVENT
DTSTART;TZID=America/Chicago:20260320T190000
DTEND;TZID=America/Chicago:20260320T210000
DTSTAMP:20260424T161808
CREATED:20260304T132335Z
LAST-MODIFIED:20260313T194723Z
UID:10001497-1774033200-1774040400@pvfa.tamu.edu
SUMMARY:An Evening With Boots Riley: Free Screening of ‘I Love Boosters’
DESCRIPTION:MSC Aggie Cinema presents this free screening of “I Love Boosters” and a Q&A with director Boots Riley.  The event\, in partnership with the College of Performance\, Visualization and Fine Arts and the Academy for the Visual and Performing Arts\, is free for all to attend\, and starts at 7 p.m. Doors open at 6:30 p.m. Fresh off its premiere at SXSW\, “I Love Boosters” is about a crew of professional shoplifters who take aim at a cutthroat fashion maven. The crime comedy stars Keke Palmer\, Naomi Ackie\, Taylour Paige\, LaKeith Stanfield\, Poppy Liu\, Eiza González\, Will Poulter\, Don Cheadle and Demi Moore. “I Love Boosters” will be in theaters later this year. Riley\, director of the 2018 film “Sorry to Bother You” and the 2023 Amazon series “I’m a Virgo\,” is also a screenwriter\, producer\, poet and activist. As a rap artist\, he is the founding member of and lead vocalist of The Coup\, and Street Sweeper Social Club with guitarist Tom Morello. The free event is part of MSC Aggie Cinema’s Howdywood Film Festival. For information on the festival\, visit visit tx.ag/Howdywood.
URL:https://pvfa.tamu.edu/event/an-evening-with-boots-riley/
LOCATION:Rudder Theatre\, 401 Joe Routt Blvd\, College Station\, TX\, 77840
CATEGORIES:Guest Talks
ATTACH;FMTTYPE=image/jpeg:https://pvfa.tamu.edu/wp-content/uploads/2026/03/Boots-Riley-speaker-evil-twin-booking-agency-Boots-Riley-profile-blue-jacket-white-wall-large-format-eviltwinbookingdotorg-copy-e1772630187420.jpg
END:VEVENT
BEGIN:VEVENT
DTSTART;TZID=America/Chicago:20260321T080000
DTEND;TZID=America/Chicago:20260321T170000
DTSTAMP:20260424T161808
CREATED:20251213T003018Z
LAST-MODIFIED:20260121T232417Z
UID:10001117-1774080000-1774112400@pvfa.tamu.edu
SUMMARY:Node and Code
DESCRIPTION:The LIVE Lab invites you to Node and Code\, a dynamic symposium that will feature talks\, workshops and presentations led by industry experts\, including Barak Moshe\, former technical art director at Google and technical art advisor for GDC. All students and technical artists working in games\, graphics and related fields are invited to submit their projects for the demo showcase\, a collaborative exhibition inspired by the international demoscene. In demoscene tradition\, participants create audiovisual software demos that push the boundaries of programming\, visual art and music. For experienced technical artists or those just starting out\, Node and Code is the perfect way to connect with peers\, learn from professionals and share creative work. The free event will be at the Liberal Arts and Arts & Humanities Building\, Room 255. Registration is required: https://bit.ly/490JppX
URL:https://pvfa.tamu.edu/event/node-and-code-7/
LOCATION:Liberal Arts and Arts and Humanities Building (LAAH)\, 349 Spence St\, College Station\, TX\, 77840\, United States
CATEGORIES:Workshops
ATTACH;FMTTYPE=image/jpeg:https://pvfa.tamu.edu/wp-content/uploads/2025/08/event-_placeholder_PVFA.jpg
END:VEVENT
BEGIN:VEVENT
DTSTART;TZID=America/Chicago:20260321T110000
DTEND;TZID=America/Chicago:20260321T210000
DTSTAMP:20260424T161808
CREATED:20260314T190046Z
LAST-MODIFIED:20260320T121830Z
UID:10001506-1774090800-1774126800@pvfa.tamu.edu
SUMMARY:Brad Graeber (in-person)\, Clara Chan (virtually) at Howdywood Film Festival
DESCRIPTION:Two former Visualization students are appearing at MSC Aggie Cinema’s Howdywood Film Festival on Saturday\, March 21. Brad Graeber\, founder and CEO of Powerhouse Animation Studio in Austin\, will speak at noon. Clara Chan\, VFX supervisor at Sony Pictures ImageWorks\, who recently won a Visual Effects Society award for “KPop Demon Hunters\,” will appear virtually at 6:30 p.m. She will also screen her short film “Have I Swallowed Your Dreams.”
URL:https://pvfa.tamu.edu/event/brad-graeber-clara-chan-and-student-films-at-howdywood-film-festival/
LOCATION:Rudder Forum\, 275 Joe Routt Blvd\, College Station\, TX\, 77840\, United States
ATTACH;FMTTYPE=image/jpeg:https://pvfa.tamu.edu/wp-content/uploads/2025/08/event_placeholder_visualization.jpg
END:VEVENT
BEGIN:VEVENT
DTSTART;TZID=America/Chicago:20260326T120000
DTEND;TZID=America/Chicago:20260326T130000
DTSTAMP:20260424T161808
CREATED:20260325T022113Z
LAST-MODIFIED:20260325T022114Z
UID:10001875-1774526400-1774530000@pvfa.tamu.edu
SUMMARY:Noon Concerts at the MSC Flag Room
DESCRIPTION:This performance is part of a monthly concert series at the MSC Flag Room that features students from the Music program. This concert will feature music for flute\, bassoon and piano\, and other works.
URL:https://pvfa.tamu.edu/event/noon-concerts-at-the-msc-flag-room/
LOCATION:Memorial Student Center\, 275 Joe Routt Blvd\, College Station\, Texas\, 77843\, United States
CATEGORIES:Performances
ATTACH;FMTTYPE=image/jpeg:https://pvfa.tamu.edu/wp-content/uploads/2026/02/11-6.10.37-PM.jpg
END:VEVENT
BEGIN:VEVENT
DTSTART;TZID=America/Chicago:20260326T193000
DTEND;TZID=America/Chicago:20260329T210000
DTSTAMP:20260424T161808
CREATED:20260130T215045Z
LAST-MODIFIED:20260328T141709Z
UID:10001470-1774553400-1774818000@pvfa.tamu.edu
SUMMARY:'Echoes of Justice'
DESCRIPTION:Photo by Kim Wu.  “Echoes of Justice” is the Theatre program’s first student-led devised production\, asking what happens when theatre itself becomes dangerous in the context of queer censorship. Set in the 1920s\, the play follows a fictional theatre troupe as they rehearse and perform a new work that draws increasing public attention. What begins onstage soon extends beyond the theatre\, leading to arrests and public backlash. The story ultimately culminates in a courtroom trial constructed from real U.S. censorship cases.  The performance is intended for individuals who are 18 years of age or older. Tickets are $11.50 and $6 for students available at the MSC Box Office.  All performances are in the Black Box at the Liberal Arts and Arts & Humanities Building. Performances:  March 26 at 7:30 p.m. March 27 at 7:30 p.m.  March 28 at 2 p.m. and 8 p.m.  March 29 at 2 p.m.
URL:https://pvfa.tamu.edu/event/echoes-of-justice/
LOCATION:Black Box Theater – LAAH\, 399 Spence St\, College Station\, TX\, 77840
ATTACH;FMTTYPE=image/jpeg:https://pvfa.tamu.edu/wp-content/uploads/2026/01/Echoes.jpeg
END:VEVENT
BEGIN:VEVENT
DTSTART;TZID=America/Chicago:20260327T120000
DTEND;TZID=America/Chicago:20260327T130000
DTSTAMP:20260424T161808
CREATED:20260320T150441Z
LAST-MODIFIED:20260320T150523Z
UID:10001508-1774612800-1774616400@pvfa.tamu.edu
SUMMARY:First Gen Friday
DESCRIPTION:Friday from noon to 1 p.m. at LAAH\, Room 225. Our lunch-and-learn series is designed for first-gen students to connect with each other and learn about a campus resource — this month it’s the Career Center. Lunch is provided to students who RSVP: Email Johnna Lee at johnna2018@tamu.edu.
URL:https://pvfa.tamu.edu/event/first-gen-friday/
LOCATION:Liberal Arts and Arts and Humanities Building (LAAH)\, 349 Spence St\, College Station\, TX\, 77840\, United States
CATEGORIES:Guest Talks
ATTACH;FMTTYPE=image/jpeg:https://pvfa.tamu.edu/wp-content/uploads/2025/08/event-_placeholder_PVFA.jpg
END:VEVENT
BEGIN:VEVENT
DTSTART;TZID=America/Chicago:20260327T200000
DTEND;TZID=America/Chicago:20260329T080000
DTSTAMP:20260424T161808
CREATED:20260130T220624Z
LAST-MODIFIED:20260227T190204Z
UID:10001471-1774641600-1774771200@pvfa.tamu.edu
SUMMARY:Gigajam 2026
DESCRIPTION:Gigajam is a 36-hour creative jam sponsored by SIGGRAPH at the Langford Architecture Center\, Building C\, Room 414. Create something awesome in 36 hours — an animation\, digital illustration or other work of art. As long as there’s a digital component\, anyone can compete in Gigajam. Students can work alone or in teams up to four. This is an fun way to create exciting portfolios and collaborate. Registration is required by March 27 at 5 p.m.
URL:https://pvfa.tamu.edu/event/gigajam-2026/
LOCATION:Langford Architecture Center – Building C\, 788 Ross Street\, College Station\, TX\, 77843\, United States
ATTACH;FMTTYPE=image/jpeg:https://pvfa.tamu.edu/wp-content/uploads/2025/08/event_placeholder_visualization.jpg
END:VEVENT
END:VCALENDAR