BEGIN:VCALENDAR
VERSION:2.0
PRODID:-//Texas A&amp;M University College of Performance, Visualization &amp; Fine Arts - ECPv6.15.20//NONSGML v1.0//EN
CALSCALE:GREGORIAN
METHOD:PUBLISH
X-WR-CALNAME:Texas A&amp;M University College of Performance, Visualization &amp; Fine Arts
X-ORIGINAL-URL:https://pvfa.tamu.edu
X-WR-CALDESC:Events for Texas A&amp;M University College of Performance, Visualization &amp; Fine Arts
REFRESH-INTERVAL;VALUE=DURATION:PT1H
X-Robots-Tag:noindex
X-PUBLISHED-TTL:PT1H
BEGIN:VTIMEZONE
TZID:America/Chicago
BEGIN:DAYLIGHT
TZOFFSETFROM:-0600
TZOFFSETTO:-0500
TZNAME:CDT
DTSTART:20250309T080000
END:DAYLIGHT
BEGIN:STANDARD
TZOFFSETFROM:-0500
TZOFFSETTO:-0600
TZNAME:CST
DTSTART:20251102T070000
END:STANDARD
BEGIN:DAYLIGHT
TZOFFSETFROM:-0600
TZOFFSETTO:-0500
TZNAME:CDT
DTSTART:20260308T080000
END:DAYLIGHT
BEGIN:STANDARD
TZOFFSETFROM:-0500
TZOFFSETTO:-0600
TZNAME:CST
DTSTART:20261101T070000
END:STANDARD
BEGIN:DAYLIGHT
TZOFFSETFROM:-0600
TZOFFSETTO:-0500
TZNAME:CDT
DTSTART:20270314T080000
END:DAYLIGHT
BEGIN:STANDARD
TZOFFSETFROM:-0500
TZOFFSETTO:-0600
TZNAME:CST
DTSTART:20271107T070000
END:STANDARD
END:VTIMEZONE
BEGIN:VEVENT
DTSTART;TZID=America/Chicago:20260116T000000
DTEND;TZID=America/Chicago:20260419T235900
DTSTAMP:20260424T103701
CREATED:20251211T223642Z
LAST-MODIFIED:20260113T225626Z
UID:10001014-1768521600-1776643140@pvfa.tamu.edu
SUMMARY:Hollis Hammonds\, 'The River Entered My Home By Hammonds + West'
DESCRIPTION:“The River Entered My Home by Hammonds + West” will be on display Jan. 16 through April 19 at Art League Houston. Photo courtesy of Hollis Hammonds.On display Jan. 16 through April 19 at Art League Houston\, 1953 Montrose Boulevard in Houston. Artist talk Jan. 17 at 2 p.m.  This multimedia exhibition about climate grief and the environmental crisis was created by Hollis Hammonds\, associate professor in the Visualization program; and Austin-based poet Sasha West. The artists combine image and text into multimedia installations and exhibitions\, combining sound with sculptural installation\, video with drawings and words with images. Hammonds’ drawings reflect the melancholy and darkness manifested in West’s poems\, asking viewers to reexamine the impact of elements when those elements are fed by human actions. West’s poems connect to the landscapes of ruin in Hammonds’ drawing\, questioning our culture’s belief in limitless growth. They invite viewers to see their own daily part in making the physical world and the future of landscapes.
URL:https://pvfa.tamu.edu/event/hollis-hammonds-the-river-entered-my-home-by-hammonds-west/
LOCATION:1953 Montrose Blvd.\, Houston\, TX\, 77006\, 1953 Montrose Blvd.\, Houston\, Texas\, 77006\, United States
CATEGORIES:Exhibitions
ATTACH;FMTTYPE=image/jpeg:https://pvfa.tamu.edu/wp-content/uploads/2025/12/theriverenteredmyhome-Hollis-Hammonds.jpeg
END:VEVENT
BEGIN:VEVENT
DTSTART;TZID=America/Chicago:20260128T080000
DTEND;TZID=America/Chicago:20260408T170000
DTSTAMP:20260424T103701
CREATED:20260121T030136Z
LAST-MODIFIED:20260211T135159Z
UID:10001460-1769587200-1775667600@pvfa.tamu.edu
SUMMARY:Rebecca Pugh\, 'Highways to Houston'
DESCRIPTION:Rebecca Pugh\, instructional assistant professor in the Visualization program and director of Wright Gallery\, presents this solo exhibition of abstract paintings inspired by driving between Houston and College Station. Pugh abstracts cattle and horses as shapes of brown\, black and white\, and grass and wildflowers as bright colors. She uses angular shapes inspired by spaces in between fence posts\, railings and barbed wire\, and often mounts shapes of paper containing graphite mark making to suggest wind in grass\, speed or direction of traffic.
URL:https://pvfa.tamu.edu/event/rebecca-pugh-highways-to-houston/
LOCATION:LSC Visual & Performing Arts Building\, Lone Star College\, 930 University Park Campus Drive\, Houston\, Texas\, United States
CATEGORIES:Exhibitions
ATTACH;FMTTYPE=image/jpeg:https://pvfa.tamu.edu/wp-content/uploads/2026/01/RebeccaPugh_SPUR515_Panel3_ONLINE-Rebecca-Pugh-1-e1768964390122.jpg
END:VEVENT
BEGIN:VEVENT
DTSTART;TZID=America/Chicago:20260306T170000
DTEND;TZID=America/Chicago:20260330T170000
DTSTAMP:20260424T103701
CREATED:20260226T190233Z
LAST-MODIFIED:20260226T190234Z
UID:10001494-1772816400-1774890000@pvfa.tamu.edu
SUMMARY:Felice House Exhibition Featuring Cowgirls And Landscapes
DESCRIPTION:Photo courtesy of Felice House. Painters Felice House and Kyle Steed present a joint exhibition. House\, M.F.A.\, is an associate professor in the Visualization program. The show pairs House’s cowgirls and landscapes with Steed’s bold\, graphic sensibility\, creating a vibrant dialogue about place\, pattern and contemporary life in Texas.
URL:https://pvfa.tamu.edu/event/felice-house-exhibition-featuring-cowgirls-and-landscapes/
LOCATION:Commerce Gallery\, 102 South Commerce St.\, Lockhart\, Texas\, 78644\, United States
ATTACH;FMTTYPE=image/png:https://pvfa.tamu.edu/wp-content/uploads/2026/02/felice.png
END:VEVENT
BEGIN:VEVENT
DTSTART;TZID=America/Chicago:20260318T080000
DTEND;TZID=America/Chicago:20260508T170000
DTSTAMP:20260424T103701
CREATED:20260106T223724Z
LAST-MODIFIED:20260106T223807Z
UID:10001451-1773820800-1778259600@pvfa.tamu.edu
SUMMARY:‘Hillerbrand+Magsamen\, Assembly Required’
DESCRIPTION:March 18-May 8 at Wright Gallery\, Langford Architecture Center Building A. Artist talk and reception April 7 at 2 p.m. This exhibition by Hillerbrand+Magsamen\, a husband-wife team based in Houston\, brings together sculptural\, photographic and time-based works that explore the relationship between the domestic sphere and systems of thought\, belief and care. Everyday materials are reconfigured into forms that suggest both ritual and experiment\, reflecting on how the ordinary can become a site of transformation. Through processes of repetition\, accumulation\, and play\, the works consider how we organize chaos\, measure time\, and give shape to memory. Gallery hours: Monday-Thursday from 8 a.m. to 7:45 p.m. and Friday 8 a.m. to 5 p.m.
URL:https://pvfa.tamu.edu/event/hillerbrandmagsamen-assembly-required/
LOCATION:Wright Gallery\, 789 Ross St\, College Station\, Texas\, 77843\, United States
CATEGORIES:Exhibitions
ATTACH;FMTTYPE=image/jpeg:https://pvfa.tamu.edu/wp-content/uploads/2026/01/new-HillerbrandMagsamen_A-Device-to-Heal-all-Mothers-copy-Rebecca-Pugh.jpg
END:VEVENT
END:VCALENDAR