BEGIN:VCALENDAR
VERSION:2.0
PRODID:-//Texas A&amp;M University College of Performance, Visualization &amp; Fine Arts - ECPv6.15.20//NONSGML v1.0//EN
CALSCALE:GREGORIAN
METHOD:PUBLISH
X-WR-CALNAME:Texas A&amp;M University College of Performance, Visualization &amp; Fine Arts
X-ORIGINAL-URL:https://pvfa.tamu.edu
X-WR-CALDESC:Events for Texas A&amp;M University College of Performance, Visualization &amp; Fine Arts
REFRESH-INTERVAL;VALUE=DURATION:PT1H
X-Robots-Tag:noindex
X-PUBLISHED-TTL:PT1H
BEGIN:VTIMEZONE
TZID:America/Chicago
BEGIN:DAYLIGHT
TZOFFSETFROM:-0600
TZOFFSETTO:-0500
TZNAME:CDT
DTSTART:20240310T080000
END:DAYLIGHT
BEGIN:STANDARD
TZOFFSETFROM:-0500
TZOFFSETTO:-0600
TZNAME:CST
DTSTART:20241103T070000
END:STANDARD
BEGIN:DAYLIGHT
TZOFFSETFROM:-0600
TZOFFSETTO:-0500
TZNAME:CDT
DTSTART:20250309T080000
END:DAYLIGHT
BEGIN:STANDARD
TZOFFSETFROM:-0500
TZOFFSETTO:-0600
TZNAME:CST
DTSTART:20251102T070000
END:STANDARD
BEGIN:DAYLIGHT
TZOFFSETFROM:-0600
TZOFFSETTO:-0500
TZNAME:CDT
DTSTART:20260308T080000
END:DAYLIGHT
BEGIN:STANDARD
TZOFFSETFROM:-0500
TZOFFSETTO:-0600
TZNAME:CST
DTSTART:20261101T070000
END:STANDARD
BEGIN:DAYLIGHT
TZOFFSETFROM:-0600
TZOFFSETTO:-0500
TZNAME:CDT
DTSTART:20270314T080000
END:DAYLIGHT
BEGIN:STANDARD
TZOFFSETFROM:-0500
TZOFFSETTO:-0600
TZNAME:CST
DTSTART:20271107T070000
END:STANDARD
END:VTIMEZONE
BEGIN:VEVENT
DTSTART;TZID=America/Chicago:20251211T080000
DTEND;TZID=America/Chicago:20260130T170000
DTSTAMP:20260423T054039
CREATED:20251211T205343Z
LAST-MODIFIED:20251211T223042Z
UID:10001110-1765440000-1769792400@pvfa.tamu.edu
SUMMARY:Graduate Student Artist Residency Showcase
DESCRIPTION:Nik Aberle\, a second-year Master of Fine Arts in Visualization student\, earned the inaugural Graduate Student Artist Residency — a partnership between the college and the Arts Center of Brazos Valley — and worked on his research throughout the semester. His installation features a red laser that visualizes sound waves from a speaker\, which is driven by the movements of people in the room. When people move and change positions\, five distance sensors cause the sounds that animate the laser to change. As more people enter the space and interact with the sensors\, the more active the laser pattern becomes. Hours are Monday through Friday from 10 a.m. to 5 p.m. and Saturday from 10 a.m. to 4 p.m. The Arts Center will be closed for the holidays Dec. 21 through Jan. 4.
URL:https://pvfa.tamu.edu/event/graduate-student-artist-residency-showcase-at-arts-center/
LOCATION:The Arts Center of Brazos Valley\, 4180 Highway 6\, College Station\, Texas\, 77845\, United States
ATTACH;FMTTYPE=image/jpeg:https://pvfa.tamu.edu/wp-content/uploads/2025/08/event-_placeholder_PVFA.jpg
END:VEVENT
BEGIN:VEVENT
DTSTART;TZID=America/Chicago:20260113T090000
DTEND;TZID=America/Chicago:20260228T200000
DTSTAMP:20260423T054039
CREATED:20260121T025118Z
LAST-MODIFIED:20260211T135229Z
UID:10001459-1768294800-1772308800@pvfa.tamu.edu
SUMMARY:‘Defining an Art Practice: finding identity in the art profession’
DESCRIPTION:This exhibition showcases the work of nine Master of Fine Arts in Visualization candidates as they explore what it means to define a professional art practice. Through diverse media and conceptual approaches\, these installations reflect rigorous research\, technical skill and critical inquiry. From immersive environments to sculptural forms and mixed-media compositions\, each installation embodies the unique voice and vision of its creator. Over the course of a semester\, the jury-selected artists worked with professors and the MSC Visual Arts Committee to perfect their conceptual designs and plan their installations. Artist talks:  Feb. 3 at 3 p.m.: Kennedy Patterson\n\nFeb. 5 at 2 p.m.: Sarah Marek\n\nFeb. 6 at 1 p.m.: Justin Hopson\n\nFeb. 10 at noon: Carolyn HuaA reception will be Feb. 13 from 5 to 7 p.m. The exhibition continues through Feb. 28 at the James R. Reynolds Gallery\, Memorial Student Center. Hours: Tuesday-Friday from 9 a.m. to 8 p.m.\, Saturday and Sunday noon to 6 p.m.
URL:https://pvfa.tamu.edu/event/defining-an-art-practice-finding-identity-in-the-art-profession/
LOCATION:James R. Reynolds Gallery\, 275 Joe Routt Blvd\, College Station\, Texas\, 77843
CATEGORIES:Exhibitions
ATTACH;FMTTYPE=image/jpeg:https://pvfa.tamu.edu/wp-content/uploads/2026/01/Defining_Art_Practice-Michael-Gayk.jpg
END:VEVENT
BEGIN:VEVENT
DTSTART;TZID=America/Chicago:20260116T000000
DTEND;TZID=America/Chicago:20260419T235900
DTSTAMP:20260423T054039
CREATED:20251211T223642Z
LAST-MODIFIED:20260113T225626Z
UID:10001014-1768521600-1776643140@pvfa.tamu.edu
SUMMARY:Hollis Hammonds\, 'The River Entered My Home By Hammonds + West'
DESCRIPTION:“The River Entered My Home by Hammonds + West” will be on display Jan. 16 through April 19 at Art League Houston. Photo courtesy of Hollis Hammonds.On display Jan. 16 through April 19 at Art League Houston\, 1953 Montrose Boulevard in Houston. Artist talk Jan. 17 at 2 p.m.  This multimedia exhibition about climate grief and the environmental crisis was created by Hollis Hammonds\, associate professor in the Visualization program; and Austin-based poet Sasha West. The artists combine image and text into multimedia installations and exhibitions\, combining sound with sculptural installation\, video with drawings and words with images. Hammonds’ drawings reflect the melancholy and darkness manifested in West’s poems\, asking viewers to reexamine the impact of elements when those elements are fed by human actions. West’s poems connect to the landscapes of ruin in Hammonds’ drawing\, questioning our culture’s belief in limitless growth. They invite viewers to see their own daily part in making the physical world and the future of landscapes.
URL:https://pvfa.tamu.edu/event/hollis-hammonds-the-river-entered-my-home-by-hammonds-west/
LOCATION:1953 Montrose Blvd.\, Houston\, TX\, 77006\, 1953 Montrose Blvd.\, Houston\, Texas\, 77006\, United States
CATEGORIES:Exhibitions
ATTACH;FMTTYPE=image/jpeg:https://pvfa.tamu.edu/wp-content/uploads/2025/12/theriverenteredmyhome-Hollis-Hammonds.jpeg
END:VEVENT
END:VCALENDAR