BEGIN:VCALENDAR
VERSION:2.0
PRODID:-//Texas A&amp;M University College of Performance, Visualization &amp; Fine Arts - ECPv6.15.20//NONSGML v1.0//EN
CALSCALE:GREGORIAN
METHOD:PUBLISH
X-WR-CALNAME:Texas A&amp;M University College of Performance, Visualization &amp; Fine Arts
X-ORIGINAL-URL:https://pvfa.tamu.edu
X-WR-CALDESC:Events for Texas A&amp;M University College of Performance, Visualization &amp; Fine Arts
REFRESH-INTERVAL;VALUE=DURATION:PT1H
X-Robots-Tag:noindex
X-PUBLISHED-TTL:PT1H
BEGIN:VTIMEZONE
TZID:America/Chicago
BEGIN:DAYLIGHT
TZOFFSETFROM:-0600
TZOFFSETTO:-0500
TZNAME:CDT
DTSTART:20240310T080000
END:DAYLIGHT
BEGIN:STANDARD
TZOFFSETFROM:-0500
TZOFFSETTO:-0600
TZNAME:CST
DTSTART:20241103T070000
END:STANDARD
BEGIN:DAYLIGHT
TZOFFSETFROM:-0600
TZOFFSETTO:-0500
TZNAME:CDT
DTSTART:20250309T080000
END:DAYLIGHT
BEGIN:STANDARD
TZOFFSETFROM:-0500
TZOFFSETTO:-0600
TZNAME:CST
DTSTART:20251102T070000
END:STANDARD
BEGIN:DAYLIGHT
TZOFFSETFROM:-0600
TZOFFSETTO:-0500
TZNAME:CDT
DTSTART:20260308T080000
END:DAYLIGHT
BEGIN:STANDARD
TZOFFSETFROM:-0500
TZOFFSETTO:-0600
TZNAME:CST
DTSTART:20261101T070000
END:STANDARD
BEGIN:DAYLIGHT
TZOFFSETFROM:-0600
TZOFFSETTO:-0500
TZNAME:CDT
DTSTART:20270314T080000
END:DAYLIGHT
BEGIN:STANDARD
TZOFFSETFROM:-0500
TZOFFSETTO:-0600
TZNAME:CST
DTSTART:20271107T070000
END:STANDARD
END:VTIMEZONE
BEGIN:VEVENT
DTSTART;TZID=America/Chicago:20250806T000000
DTEND;TZID=America/Chicago:20251219T235959
DTSTAMP:20260424T161818
CREATED:20250919T182237Z
LAST-MODIFIED:20250924T162312Z
UID:10000051-1754438400-1766188799@pvfa.tamu.edu
SUMMARY:Karen Hillier\, 'BRAZOSbrazos'
DESCRIPTION:Karen Hillier\, Stereo Photography\n“BRAZOSbrazos” showcases professor emerita Karen Hillier’s decade-long exploration of the Brazos River bottom\, capturing its shifting beauty and complexity through stereo pinhole photography. Hillier’s connection to the region grew from her childhood in Bryan\, where she observed the care and stewardship of local farming families. The exhibition reflects both the agricultural communities that shape the land and the broader forces of time and nature that transform it.“BRAZOSbrazos” is on display through Dec. 19 in the James R. Reynolds Gallery in the Memorial Student Center. An exhibition reception will be held on Oct. 1\, 2025.James R. Reynolds Gallery is open Tuesday-Friday from 9 a.m.–8 p.m.\, and Saturday-Sunday from noon–6 p.m.
URL:https://pvfa.tamu.edu/event/karen-hillier-brazosbrazos/
LOCATION:James R. Reynolds Gallery\, 275 Joe Routt Blvd\, College Station\, Texas\, 77843
ATTACH;FMTTYPE=image/jpeg:https://pvfa.tamu.edu/wp-content/uploads/2025/09/Stereo-Photography-Felice-House.jpg
END:VEVENT
BEGIN:VEVENT
DTSTART;TZID=America/Chicago:20251110T000000
DTEND;TZID=America/Chicago:20260115T235959
DTSTAMP:20260424T161818
CREATED:20251106T214901Z
LAST-MODIFIED:20260106T224103Z
UID:10000088-1762732800-1768521599@pvfa.tamu.edu
SUMMARY:Emilie Duval\, ‘In Digital Elysium: Architectures of a New Reality’
DESCRIPTION:On display through Jan. 15 at Wright Gallery in the Langford Architecture Center\, Building A.  Emilie Duval is a multidisciplinary artist whose abstractions of midcentury architecture are layered with fragmented perspectives that blur the boundaries between what’s real and virtual. In painting\, sculpture and animation\, she explores tension between physical and digital entities in her scenes of abstracted midcentury modern architecture and bright landscapes with mountains and palm trees. Gallery hours are Monday-Thursday from 8 a.m. to 7:45 p.m. and Friday 8 a.m. to 5 p.m.
URL:https://pvfa.tamu.edu/event/emilie-duval-in-digital-elysium-architectures-of-a-new-reality/
LOCATION:Wright Gallery\, 789 Ross St\, College Station\, Texas\, 77843\, United States
ATTACH;FMTTYPE=image/jpeg:https://pvfa.tamu.edu/wp-content/uploads/2025/11/The-Mountains-of-Illusion-I-copy-Rebecca-Pugh-e1762467710313.jpg
END:VEVENT
BEGIN:VEVENT
DTSTART;TZID=America/Chicago:20251119T123000
DTEND;TZID=America/Chicago:20251119T193000
DTSTAMP:20260424T161818
CREATED:20251023T222624Z
LAST-MODIFIED:20251119T190259Z
UID:10000077-1763555400-1763580600@pvfa.tamu.edu
SUMMARY:‘Crescendo’ Music Program Showcase: Percussion\, Woodwind\, Maroon Steel\, Video Game and Film Music Ensemble
DESCRIPTION:Students and faculty in the Music program will showcase their talents in a weeklong celebration of their disciplines\, including piano\, woodwinds\, percussion\, music technology\, brass\, vocal and steel pan. Nov. 19 at 12:30 p.m. at LAAH Black Box: Aggieland Percussion Soloists Nov. 19 at 2 p.m. at LAAH Black Box: Woodwind Studio Recital Nov. 19 at 4 p.m. at LAAH Black Box: Maroon Steel Nov. 19 at 7:30 p.m. at LAAH Black Box: Video Game and Film Music Ensemble
URL:https://pvfa.tamu.edu/event/crescendo-music-program-showcase-woodwind-studio-maroon-steel-video-game-and-film-music-ensemble/
LOCATION:Black Box Theater – LAAH\, 399 Spence St\, College Station\, TX\, 77840
CATEGORIES:Performances
ATTACH;FMTTYPE=image/jpeg:https://pvfa.tamu.edu/wp-content/uploads/2025/08/event_placeholder_musicperf.jpg
END:VEVENT
END:VCALENDAR